BEGIN:VCALENDAR
VERSION:2.0
PRODID:icalendar-ruby
CALSCALE:GREGORIAN
BEGIN:VEVENT
DTSTAMP:20260422T071401Z
UID:b4624393-f839-4c0a-8956-a1815f7a22e1
DTSTART:20260426T070000
DTEND:20260426T160000
DESCRIPTION:  PRÄSENTATIONSPFLICHT DER WAREN ! Bis 14.00 Uhr mindestens !
 \nVERANSTALTUNG - normalerweise trödeln wir auf dem Parkplatz von Edeka d
 irekt an der B101\ngegenüber dem Hotel Neustädter Hof gelegen.\nGut eins
 ehbares Gelände für die vielen Tank und Zigaretten Touristen in die Czec
 k Republic !ausreichend Besucherparkplätze sind vor dem Parkhaus vorhande
 n.\nEin Trödelversuch lohnt hier !!!\nAnmeldung nicht erforderlich - einf
 ach hinkommen !\nTel: 0173/5955565 ( auch WhatsApp )\noder www.troedel-mar
 ktunion.de\n 
LOCATION:Straße der Einheit 50 08340 
SUMMARY:EDEKA am RINGCENTER an der B101
END:VEVENT
END:VCALENDAR
