BEGIN:VCALENDAR
VERSION:2.0
PRODID:icalendar-ruby
CALSCALE:GREGORIAN
BEGIN:VEVENT
DTSTAMP:20260422T071552Z
UID:aaa11b3d-4b63-4f58-aae1-1f659a7d07a6
DTSTART:20260830T070000
DTEND:20260830T160000
DESCRIPTION:  PRÄSENTATIONSPFLICHT DER WAREN ! Bis 14.00 Uhr mindestens !
 \nVERANSTALTUNG - normalerweise trödeln wir auf dem Parkplatz von Edeka d
 irekt an der B101\ngegenüber dem Hotel Neustädter Hof gelegen.\nGut eins
 ehbares Gelände für die vielen Tank und Zigaretten Touristen in die Czec
 k Republic !ausreichend Besucherparkplätze sind vor dem Parkhaus vorhande
 n.\nEin Trödelversuch lohnt hier !!!\nAnmeldung nicht erforderlich - einf
 ach hinkommen !\nTel: 0173/5955565 ( auch WhatsApp )\noder www.troedel-mar
 ktunion.de\n 
LOCATION:Straße der Einheit 50 08340 
SUMMARY:EDEKA am RINGCENTER an der B101
END:VEVENT
END:VCALENDAR
