BEGIN:VCALENDAR
VERSION:2.0
PRODID:icalendar-ruby
CALSCALE:GREGORIAN
BEGIN:VEVENT
DTSTAMP:20260422T071459Z
UID:2a970e72-3e20-4db7-abe0-38735b502a5f
DTSTART:20261031T070000
DTEND:20261031T160000
DESCRIPTION:  PRÄSENTATIONSPFLICHT DER WAREN ! Bis 14.00 Uhr mindestens !
 \nVERANSTALTUNG - normalerweise trödeln wir auf dem Parkplatz von Edeka d
 irekt an der B101\ngegenüber dem Hotel Neustädter Hof gelegen.\nGut eins
 ehbares Gelände für die vielen Tank und Zigaretten Touristen in die Czec
 k Republic !ausreichend Besucherparkplätze sind vor dem Parkhaus vorhande
 n.\nEin Trödelversuch lohnt hier !!!\nAnmeldung nicht erforderlich - einf
 ach hinkommen !\nTel: 0173/5955565 ( auch WhatsApp )\noder www.troedel-mar
 ktunion.de\n 
LOCATION:Straße der Einheit 50 08340 
SUMMARY:EDEKA am RINGCENTER an der B101
END:VEVENT
END:VCALENDAR
