BEGIN:VCALENDAR
VERSION:2.0
PRODID:icalendar-ruby
CALSCALE:GREGORIAN
BEGIN:VEVENT
DTSTAMP:20260422T010240Z
UID:f998b37a-9709-4726-a7ba-e7ef0de347ca
DTSTART:20270106T100000
DTEND:20270106T150000
DESCRIPTION:Große Eisenbahn &amp\; Modellauto/Spielzeug Börse im Vogel Co
 nvention Center\nSehr grosse Auswahl an Modelleisenbahn und Zubehör\, kle
 ines Angebot an Modellauto und Blech\nEinlass:  10:00 Uhr\nÖffnungszeite
 n: 10:00-15:00 Uhr\nBesucher Eintritt: 4\,50 €\nStandgebühren:  Tisch 
 1\,40 x 0\,60   =  35 €\n                             
 \n                            Anmeldung für Aussteller bit
 te unbedingt vorab per Email  an:\n                         
                              alphamarketing@t-online.de 
LOCATION:Max-Planck Strasse 7/9 97064 Zellerau
SUMMARY:EISENBAHN &amp\; Modellauto/Spielzeug Börse  VCC Vogel Convention 
 Center siehe Lageplan
END:VEVENT
END:VCALENDAR
