BEGIN:VCALENDAR
VERSION:2.0
PRODID:icalendar-ruby
CALSCALE:GREGORIAN
BEGIN:VEVENT
DTSTAMP:20260422T073509Z
UID:72e333cd-03c8-4863-b3aa-c2697e29e7ef
DTSTART:20260726T110000
DTEND:20260726T180000
DESCRIPTION:Regelmäßig stattfindender Trödelmarkt in zentraler Lage mitt
 en im Wohngebiet. Gerade bei schönem Wetter findet man hier viele private
  Aussteller welche ihre ganz persönlichen Schätze anbieten. Neuware ist 
 so gut wie nicht vertreten.\nNutzen Sie die Gelegenheit Dinge die Sie nich
 t mehr benötigen zu Geld zu machen - oder Sie sind privater (Hobby-)Tröd
 ler oder wollen ein solcher werden\, dann sind Sie natürlich auch herzlic
 h willkomen.\nParken BesucherParkplätze für Besucher befinden sich auf d
 em Parkplatz hinter dem Marktplatz\nStandplatzreservierungenüber unser B
 üro: bis Freitag vor dem Markt 12 Uhrvor Ort: Samstag 17 Uhr\, Sonntag ab
  7 Uhr\nParken Aussteller / PKW am StandGenerell können Sie Ihr Fahrzeug 
 quer hinter dem Stand parken sofern die Länge des Fahrzeuges der Standlä
 nge entspricht (z. B. Golf-Größe ab 4 lfd. Metern / Kombi ab 5 lfd. Mete
 rn). Fragen Sie im Zweifel gerne die Marktleitung vor Ort bzw. entnehmen S
 ie die Länge Ihres Fahrzeuges dem Fahrzeugschein.\nStandaufbauAb 7 Uhr - 
 jedoch nicht vor Eintreffen der Marktleitung (erkennbar an der gelben West
 e / rotes T-Shirt bzw. Pullover)\nVerkaufszeit11 bis 18 Uhr\, Abbau ab 16 
 Uhr möglich\nStandmietenGrundgebühr / Stand: 5€lfd. Meter Trödel 12
 €lfd. Meter Neuware 20€lfd. Meter Textil / Lederwaren / Werkzeug 22€
 Eckplatzzuschlag: 20€Reinigungskaution: 5€ (bei sauberem Verlassen zur
 ück)\n \n \n \nWeitere Infos auf unserer Homepage www.rieder-maerkte.d
 e (einfach unten auf "Homepage des Veranstalters" klicken). \n 
LOCATION:Mallnitzer Straße 1A 58093 
SUMMARY:Marktplatz Emst
END:VEVENT
END:VCALENDAR
