BEGIN:VCALENDAR
VERSION:2.0
PRODID:icalendar-ruby
CALSCALE:GREGORIAN
BEGIN:VEVENT
DTSTAMP:20260425T014703Z
UID:f21d5a83-8a58-463e-9e16-9ab92a387c4c
DTSTART:20260517T110000
DTEND:20260517T180000
DESCRIPTION: siehe www.geide-maerkte.de /Marktordnung
LOCATION:Lise-Meitner-Str. 3 50321 
SUMMARY:Globus-Baumarkt 
END:VEVENT
END:VCALENDAR
