BEGIN:VCALENDAR
VERSION:2.0
PRODID:icalendar-ruby
CALSCALE:GREGORIAN
BEGIN:VEVENT
DTSTAMP:20260425T000744Z
UID:de922819-e1a1-46ac-a35a-76485015663d
DTSTART:20260621T110000
DTEND:20260621T180000
DESCRIPTION: siehe www.geide-maerkte.de /Marktordnung
LOCATION:Lise-Meitner-Str. 3 50321 
SUMMARY:Globus-Baumarkt 
END:VEVENT
END:VCALENDAR
