BEGIN:VCALENDAR
VERSION:2.0
PRODID:icalendar-ruby
CALSCALE:GREGORIAN
BEGIN:VEVENT
DTSTAMP:20260424T221650Z
UID:aafb53a6-c0b3-4ed1-88b7-8291503e1d88
DTSTART:20260719T110000
DTEND:20260719T180000
DESCRIPTION: siehe www.geide-maerkte.de /Marktordnung
LOCATION:Lise-Meitner-Str. 3 50321 
SUMMARY:Globus-Baumarkt 
END:VEVENT
END:VCALENDAR
