BEGIN:VCALENDAR
VERSION:2.0
PRODID:icalendar-ruby
CALSCALE:GREGORIAN
BEGIN:VEVENT
DTSTAMP:20260425T014704Z
UID:cfa7f41f-b45e-42bf-8592-dff783524963
DTSTART:20260920T110000
DTEND:20260920T180000
DESCRIPTION: siehe www.geide-maerkte.de /Marktordnung
LOCATION:Lise-Meitner-Str. 3 50321 
SUMMARY:Globus-Baumarkt 
END:VEVENT
END:VCALENDAR
