BEGIN:VCALENDAR
VERSION:2.0
PRODID:icalendar-ruby
CALSCALE:GREGORIAN
BEGIN:VEVENT
DTSTAMP:20260425T001104Z
UID:5a0e95c7-7092-4f2d-9f9c-16b1d42b4483
DTSTART:20261018T110000
DTEND:20261018T180000
DESCRIPTION: siehe www.geide-maerkte.de /Marktordnung
LOCATION:Lise-Meitner-Str. 3 50321 
SUMMARY:Globus-Baumarkt 
END:VEVENT
END:VCALENDAR
