BEGIN:VCALENDAR
VERSION:2.0
PRODID:icalendar-ruby
CALSCALE:GREGORIAN
BEGIN:VEVENT
DTSTAMP:20260420T074629Z
UID:43b60997-38a9-4604-8817-d699c86152f3
DTSTART:20260523T060000
DTEND:20260523T160000
DESCRIPTION:Aufgrund der Erfolge in den letzten Jahren veranstalten wir auc
 h in diesem Jahr 3 Antik- und Trödelmärkte in der Ledergasse.\nEs besteh
 t Platz für ca. 60 Aussteller mit Auto am Stand. Meterpreis: 8 Euro.\nAnm
 eldung und Vorauskasse unbedingt erforderlich! Tel. 0171/ 4750717\nAufbau 
 ab 6 Uhr\, Verkauf bis ca. 16 Uhr -  \nAntikes\, Sammlerobjekte sowie ans
 pruchsvoller Trödel ist erwünscht! KEINE Neuware!
LOCATION:Ledergasse 45 73525 
SUMMARY:Antik- und Trödelmarkt in der Ledergasse in Schwäbisch Gmünd
END:VEVENT
END:VCALENDAR
