BEGIN:VCALENDAR
VERSION:2.0
PRODID:icalendar-ruby
CALSCALE:GREGORIAN
BEGIN:VEVENT
DTSTAMP:20260424T090906Z
UID:fad4e5c9-3222-4cd5-858a-62f02f081c39
DTSTART:20260501T080000
DTEND:20260501T160000
DESCRIPTION:Platzvergabe\nDie Standplatzvergabe erfolgt ab 6:00 Uhr. Die Ve
 rgabe der Plätze erfolgt nach der Reihenfolge der ankommenden Aussteller.
 \nEine Anmeldung ist nicht erforderlich\, einfach morgens ab 6:00 Uhr hink
 ommen und mitmachen.\nWir haben ausreichend Platz zur Verfügung\, sodass 
 auch für Nachzügler nach 8:00 Uhr noch die Möglichkeit nach einem Stand
 platz besteht.\nDie Standgebühr wird ab 8:00 Uhr vor Ort nach dem Standau
 fbau abgerechnet.\n \nPreise\nTrödel- und Gebrauchtwaren: laufender Mete
 r 8€*\nDer Verkauf von Neuware ist auf diesem Flohmarkt nicht gestattet.
 \n \n*KFZ &amp\; Anhänger immer kostenlos – Es besteht eine Mindest-Me
 ter-Abnahme von 3 Metern.\n \nLebensmittel und Gastronomie werden nur nac
 h vorheriger Absprache gestattet.\n \nAlle weiteren Flohmarkt-Termine und
  Informationen finden Sie auf:\nwww.knoepke-flohmarkt.de\n \nFolge uns au
 f Facebook\, um immer auf dem laufenden zu sein. \nwww.facebook.com/Knoep
 keFlohmarkt\n \nBei weiteren Fragen stehen wir Ihnen gerne zur Verfügung
 . \nWir freuen uns auf Sie\, \nIhr Team von Knöpkes Flohmärkte
LOCATION:Industriestraße 13 25917 
SUMMARY:Flohmarkt Famila Leck
END:VEVENT
END:VCALENDAR
