BEGIN:VCALENDAR
VERSION:2.0
PRODID:icalendar-ruby
CALSCALE:GREGORIAN
BEGIN:VEVENT
DTSTAMP:20260422T003003Z
UID:5c5313ca-287a-40fa-ab49-653057804bdc
DTSTART:20260531T110000
DTEND:20260531T170000
DESCRIPTION: \nGroßer Floh- und Trödelmarkt  Neunkirchen Kaufland/Media
  Markt\n \nWir freuen uns auch dieses Jahr wieder auf zahlreichen Zulauf 
 an neuen Händlern und natürlich auf unsere neuen so wie alten Kunden.\n
  \nVERANSTALTER\nMarktveranstaltungen Schreier\nEiweilerstraße 1\n66793 
 Saarwellingen\nTel. 06838/85222          \nInfo@mv-schreier.de    
                               \nwww.mv-schre
 ier.de\nSchauen Sie auf unserer Webseite nach aktuellen Terminen und wöch
 entlichen Flohmarktveranstaltungen \n \n 
LOCATION:Kirkeler Straße  66538 
SUMMARY:Floh- und Trödelmarkt Neunkirchen   Kaufland/Media Markt
END:VEVENT
END:VCALENDAR
