BEGIN:VCALENDAR
VERSION:2.0
PRODID:icalendar-ruby
CALSCALE:GREGORIAN
BEGIN:VEVENT
DTSTAMP:20260424T112114Z
UID:29f49ed3-2725-4880-82fe-62c4cac23792
DTSTART:20260503T080000
DTEND:20260503T160000
DESCRIPTION:Platzvergabe\nDie Standplatzvergabe erfolgt ab 6:00 Uhr. Die Ve
 rgabe der Plätze erfolgt nach der Reihenfolge der ankommenden Aussteller.
 \nEine Anmeldung ist nicht erforderlich\, einfach morgens ab 6:00 Uhr hink
 ommen und mitmachen.\nWir haben ausreichend Platz zur Verfügung\, sodass 
 auch für Nachzügler nach 8:00 Uhr noch die Möglichkeit nach einem Stand
 platz besteht.\nDie Standgebühr wird ab 8:00 Uhr vor Ort nach dem Standau
 fbau abgerechnet.\n \nPreise\nTrödel- und Gebrauchtwaren: laufender Mete
 r 8€*\nNeu- und Retourewaren: laufender Meter 10€*\n \n*KFZ &amp\; An
 hänger immer kostenlos – Es besteht eine Mindest-Meter-Abnahme von 3 Me
 tern.\n \nTextilien- Lederneuwaren\, Lebensmittel und Gastronomie werden 
 nur nach vorheriger Absprache gestattet.\n \n \nAlle weiteren Flohmarkt-
 Termine und Informationen finden Sie auf:\nwww.knoepke-flohmarkt.de\n \nF
 olgen Sie uns auf Facebook\, um immer auf dem laufenden zu sein. \nwww.fa
 cebook.com/KnoepkeFlohmarkt\n \nBei weiteren Fragen stehen wir Ihnen gere
 n zur Verfügung. \nWir freuen uns auf Sie\, \nIhr Team von Knöpkes Flo
 hmärkte
LOCATION:Dorfstraße 4a 25842 
SUMMARY:Flohmarkt Edeka Nissen Langenhorn
END:VEVENT
END:VCALENDAR
