BEGIN:VCALENDAR
VERSION:2.0
PRODID:icalendar-ruby
CALSCALE:GREGORIAN
BEGIN:VEVENT
DTSTAMP:20260424T144804Z
UID:4c335fcd-a32a-4e9a-93e8-4465473cff0e
DTSTART:20260816T103000
DTEND:20260816T170000
DESCRIPTION:Stark besuchter\, traditioneller Riesen- Flohmarkt!\nJeder kann
  ohne Anmeldung mitmachen! Einfach vorbeikommen! Es gibt genug Platz für 
 alle! Platzvergabe ab 7 Uhr! Unser Mitarbeiter zeigt Ihnen Ihren Standplat
 z! Standmiete € 8\,- pro Meter! Bezahlung vor Ort! Fahrzeug kostenlos am
  Stand!\nBis dann!\nNeuwaren sind nicht erlaubt!\nTisch\, Stuhl\, Kleiders
 tange etc. bitte selbst mitbringen!\nDer Markt findet bei jedem Wetter sta
 tt!\n \nJetzt neu: Besuche www.gerosflohmarkt.de und verkaufe kostenlos D
 eine Sachen online!\nGerosFlohmarkt.de - Flohmärkte und kostenlose Kleina
 nzeigen!
LOCATION:Zum Schießwasen 9 91710 Frickenfelden
SUMMARY:Gunzenhausen\, Festplatz\, Riesen- Flohmarkt! Findet statt! Ohne Vo
 ranmeldung! Ohne Termin! Einfach vorbeikommen!
END:VEVENT
END:VCALENDAR
