BEGIN:VCALENDAR
VERSION:2.0
PRODID:icalendar-ruby
CALSCALE:GREGORIAN
BEGIN:VEVENT
DTSTAMP:20260425T215526Z
UID:937dd391-ca10-4cd7-8106-29f09ab44d25
DTSTART:20260628T110000
DTEND:20260628T180000
DESCRIPTION:Floh-\, Trödel- und Sammlermarkt zum Bernhäuser Bärenfest mi
 t verkaufsoffenem Sonntag! Sehr viele Festbesucher! Jeder kann ohne Anmeld
 ung mitmachen!\nSie können sich gerne aber auch anmelden unter info@geros
 -flohmarkt.de oder telefonisch unter Tel.: 0172- 7976002 oder einfach vorb
 eikommen! Es gibt genug Platz für alle!\nTreffpunkt und Platzvergabe ab 6
  Uhr morgens auf dem neuen Parkplatz beim Festgelände in der Bernhäuser 
 Hauptstr. 48! Unser Mitarbeiter zeigt Ihnen dann Ihren Standplatz! Standmi
 ete € 10\,- pro Meter! Bezahlung vor Ort! Fahrzeug kostenlos am Stand! N
 euwaren sind nicht erlaubt!\nTisch\, Stuhl etc. bitte selbst mitbringen!\n
  \nBis dann!\nDer Markt findet bei jedem Wetter statt!\n \nJetzt neu: Be
 suche www.gerosflohmarkt.de und verkaufe kostenlos Deine Sachen online!\nG
 erosFlohmarkt.de - Flohmärkte und kostenlose Kleinanzeigen!
LOCATION:Bernhäuser Hauptstraße 48 70794 Bernhausen
SUMMARY:Filderstadt- Bernhausen\, Floh-\, Trödel- und Sammlermarkt zum Ber
 nhäuser Bärenfest mit verkaufsoffenem Sonntag!\, Parkplatz beim Festgel
 ände in der Bernhäuser Hauptstr. 48\, Findet statt! Ohne Voranmeldung! E
 infach vorbeikommen!
END:VEVENT
END:VCALENDAR
