BEGIN:VCALENDAR
VERSION:2.0
PRODID:icalendar-ruby
CALSCALE:GREGORIAN
BEGIN:VEVENT
DTSTAMP:20260423T152948Z
UID:1947a99d-63b9-4ff1-929c-20dede3525fc
DTSTART:20260510T110000
DTEND:20260510T160000
DESCRIPTION:Aufbau ab 7 Uhr            Verkauf von 11 - 16 Uhr\n
 Trödel            lfm     12\,00 €Neuwarel      lfm     
  17\,00 €Propaganda  lfm      22\,00 €\nKinderdecke\, bis 12 J. nu
 r eigene Spiel~Anziehsachen\, max. 2 mal 2 m 3\,00 €\nPKW  3 m Aufbau a
 m Stand\nDas Einpacken der Ware und der Abbau vom Stand ist vor 15 Uhr nic
 ht erlaubt\nEs gibt wetterbedingte Ausnahmen die aber dann bekannt gegeben
  werden
LOCATION:Rheinstraße  56462 
SUMMARY:Stellmachers Trödelmarkt\, Höhn Einkaufspark\,
END:VEVENT
END:VCALENDAR
