BEGIN:VCALENDAR
VERSION:2.0
PRODID:icalendar-ruby
CALSCALE:GREGORIAN
BEGIN:VEVENT
DTSTAMP:20260423T153646Z
UID:95285d56-4773-4a28-9161-6b6ee2ef0ee6
DTSTART:20260816T110000
DTEND:20260816T160000
DESCRIPTION:Aufbau ab 7 Uhr            Verkauf von 11 - 16 Uhr\n
 Trödel            lfm     12\,00 €Neuwarel      lfm     
  17\,00 €Propaganda  lfm      22\,00 €\nKinderdecke\, bis 12 J. nu
 r eigene Spiel~Anziehsachen\, max. 2 mal 2 m 3\,00 €\nPKW  3 m Aufbau a
 m Stand\nDas Einpacken der Ware und der Abbau vom Stand ist vor 15 Uhr nic
 ht erlaubt\nEs gibt wetterbedingte Ausnahmen die aber dann bekannt gegeben
  werden
LOCATION:Rheinstraße  56462 
SUMMARY:Stellmachers Trödelmarkt\, Höhn Einkaufspark\,
END:VEVENT
END:VCALENDAR
