BEGIN:VCALENDAR
VERSION:2.0
PRODID:icalendar-ruby
CALSCALE:GREGORIAN
BEGIN:VEVENT
DTSTAMP:20260424T143552Z
UID:4434069e-191b-4222-86b7-cfa9ae4d0a4a
DTSTART:20261213T110000
DTEND:20261213T160000
DESCRIPTION:Weiberkram - Klamotten Mukke Kunst und BierAllen Schnäppchenj
 ägerinnen\, Trödelfans und Modeverrückten\, die auf der Suche nach etwa
 s Außergewöhnlichen sind\, sei der Weiberkram wärmstens ans Herz gelegt
 \, denn einen ganzen Sonntag lang bietet der Weiberkram in Herford all das
 \, wonach Frauen süchtig sind:\nVintage- &amp\; Second Hand Kram\, Klamot
 ten\, Schuhe\, Schmuck\, Accessoires\, Einzelstücke\, Liebgehabtes\, län
 gst vergessenes und sogar Fehlkäufe stehen auf dem Programm.Unser Motto l
 ässt sich ganz einfach in Worte fassen: Klamotten\, Mukke\, Kunst und Bi
 er. Auf ca 1.500m2 Meter Fläche und durchschnittlich ca. 100 Ständen ha
 t sich der Weiberkram schon zum größten Mädelsflohmarkt in Ostwestfahle
 n gemausert und bietet die Möglichkeit\, einen trendigen Flohmarkt für j
 ung gebliebene zu erleben\, der mit familiärer Atmosphäre auftrumpft und
  ganz ohne alten Ramsch und schlecht riechenden Plunder auskommt. Die zen
 trale Lage direkt am Herforder Hbf und die traumhafte antike Güterbahnhof
 shalle sorgen für perfekte Rahmenbedingungen.Wer also seine selbstgemacht
 en kreativen Produkte präsentieren möchte oder einfach nur seinen Kleide
 rschrank ausmisten bzw. neu befüllen möchte\, ist beim Weiberkram herzli
 ch willkommen. Anmeldungen unter www.weiberkram.org\n \n 
LOCATION:Bünder Straße 2 32051 
SUMMARY:Weiberkram Mädelsflohmarkt - HERFORD ❤❤
END:VEVENT
END:VCALENDAR
