BEGIN:VCALENDAR
VERSION:2.0
PRODID:icalendar-ruby
CALSCALE:GREGORIAN
BEGIN:VEVENT
DTSTAMP:20260424T100350Z
UID:61f69cd5-f10e-43c3-8b2b-272e059f1b74
DTSTART:20260712T110000
DTEND:20260712T180000
DESCRIPTION:Riesen- Sonntags- Flohmarkt zum verkaufsoffenen Sonntag! Absolu
 tes Highlight! Überdachte Plätze! Platzvergabe ab 7 Uhr morgens! Ein Mit
 arbeiter zeigt Ihnen Ihren Standplatz! Jeder kann ohne Anmeldung mitmachen
 ! Standmiete beträgt 10\,- pro Meter! Bezahlung vor Ort! Fahrzeug kostenl
 os am Stand! Einfach vorbeikommen! Es gibt genug Platz für alle! Neuwaren
  sind erlaubt!\nDer Markt findet bei jedem Wetter statt!\nTisch\, Stuhl\, 
 Kleiderstange etc. bitte selbst mitbringen!\nBis dann!\n \n \n \nJetzt 
 neu: Besuche www.gerosflohmarkt.de und verkaufe kostenlos Deine Sachen onl
 ine!\nGerosFlohmarkt.de - Flohmärkte und kostenlose Kleinanzeigen!
LOCATION:Motorstraße 16-18 70825 Weilimdorf
SUMMARY:Korntal\, Metro\, Riesen- Sonntagsflohmarkt! Findet statt! Ohne Anm
 eldung! Einfach vorbeikommen!
END:VEVENT
END:VCALENDAR
