BEGIN:VCALENDAR
VERSION:2.0
PRODID:icalendar-ruby
CALSCALE:GREGORIAN
BEGIN:VEVENT
DTSTAMP:20260424T185316Z
UID:d59312a3-b97f-4fc9-9b68-4d72b2f32db8
DTSTART:20260502T080000
DTEND:20260502T160000
DESCRIPTION:\nSchönes befestigtes Flohmarktgelände (bestens eingeführt)\
 n \nMitten in der Stadt Sigmaringen\, in der Nähe sind Aldi\, Mc Donald\
 , Bootshaus\n \nAuto am Stand \n \nLfd Meter 9\,-- €\n \nImbiss Bäc
 kerei EDEKA Markt ca. 200 m\n\n \n     weitere Infos zur Veranstaltung
  unter 07572 7860150\n \n 
LOCATION:In den Käppeleswiesen 3 72488 
SUMMARY:Parkplatz Nähe TÜV / Autohaus Zimmermann
END:VEVENT
END:VCALENDAR
