BEGIN:VCALENDAR
VERSION:2.0
PRODID:icalendar-ruby
CALSCALE:GREGORIAN
BEGIN:VEVENT
DTSTAMP:20260425T170836Z
UID:6b6d2e9b-a13b-4bb1-9691-47c1a969a9b9
DTSTART:20260514T110000
DTEND:20260514T180000
DESCRIPTION:
LOCATION:Drachenburgstraße 14 53179 Bad Godesberg
SUMMARY:Hit-Markt 
END:VEVENT
END:VCALENDAR
