BEGIN:VCALENDAR
VERSION:2.0
PRODID:icalendar-ruby
CALSCALE:GREGORIAN
BEGIN:VEVENT
DTSTAMP:20260425T170729Z
UID:9531a607-fab8-41bb-9be5-37373b004478
DTSTART:20260604T110000
DTEND:20260604T180000
DESCRIPTION:
LOCATION:Drachenburgstraße 14 53179 Bad Godesberg
SUMMARY:Hit-Markt 
END:VEVENT
END:VCALENDAR
