BEGIN:VCALENDAR
VERSION:2.0
PRODID:icalendar-ruby
CALSCALE:GREGORIAN
BEGIN:VEVENT
DTSTAMP:20260425T153128Z
UID:ea09d027-9803-4501-a935-e50471100174
DTSTART:20260913T110000
DTEND:20260913T180000
DESCRIPTION:
LOCATION:Drachenburgstraße 14 53179 Bad Godesberg
SUMMARY:Hit-Markt 
END:VEVENT
END:VCALENDAR
