BEGIN:VCALENDAR
VERSION:2.0
PRODID:icalendar-ruby
CALSCALE:GREGORIAN
BEGIN:VEVENT
DTSTAMP:20260425T170822Z
UID:380f0927-c7fa-410e-9383-5b6af31d234e
DTSTART:20261011T110000
DTEND:20261011T180000
DESCRIPTION:
LOCATION:Drachenburgstraße 14 53179 Bad Godesberg
SUMMARY:Hit-Markt 
END:VEVENT
END:VCALENDAR
