BEGIN:VCALENDAR
VERSION:2.0
PRODID:icalendar-ruby
CALSCALE:GREGORIAN
BEGIN:VEVENT
DTSTAMP:20260425T170836Z
UID:b12d87af-df09-4647-9dcb-3d25d5b873b1
DTSTART:20261115T110000
DTEND:20261115T180000
DESCRIPTION:
LOCATION:Drachenburgstraße 14 53179 Bad Godesberg
SUMMARY:Hit-Markt 
END:VEVENT
END:VCALENDAR
