BEGIN:VCALENDAR
VERSION:2.0
PRODID:icalendar-ruby
CALSCALE:GREGORIAN
BEGIN:VEVENT
DTSTAMP:20260420T093847Z
UID:ccfc5e89-57f0-4794-9832-8a807d53b9fa
DTSTART:20261016T100000
DTEND:20261016T180000
DESCRIPTION:Wir freuen uns sehr\, Sie als Besucher auf dem Krefelder Herbst
 zauber vom 13. – 15. Oktober 2023 begrüßen zu dürfen.\nMit dem Kref
 elder Herbstzauber führen wir auf dem historischen Gelände unsere Herb
 stveranstaltung auf der Krefelder Galopprennbahn durch. Mit ihren 100 J
 ahre alten Jugendstilgebäuden bietet die Rennbahn die perfekte Kulisse f
 ür den Herbstzauber.\n160 ausgesuchte Aussteller halten ein herbstliches
  Repertoire für Sie bereit:\nKulinarische Genüsse\, schöne Dekorationen
 \, Möbel\, Kunst\, erlesener Schmuck und Mode erwarten Sie. Ein umfangrei
 ches Rahmenprogramm für die ganze Familie rundet den Herbstzauber stimmun
 gsvoll ab.
LOCATION:An der Rennbahn  47800 Bockum
SUMMARY:Krefelder Herbstzauber
END:VEVENT
END:VCALENDAR
