BEGIN:VCALENDAR
VERSION:2.0
PRODID:icalendar-ruby
CALSCALE:GREGORIAN
BEGIN:VEVENT
DTSTAMP:20260424T070902Z
UID:22c33ec6-742a-45d5-b308-16a4ae2ccb05
DTSTART:20260927T110000
DTEND:20260927T180000
DESCRIPTION:gut besuchter Flohmarkt zum verkaufsoffenen Sonntag! Gelände i
 st teilweise überdacht! Jeder kann ohne Anmeldung mitmachen! Einfach vorb
 eikommen! Es gibt genug Platz für alle! Platzvergabe ab 8 Uhr morgens! Un
 ser Mitarbeiter zeigt Ihnen Ihren Standplatz! Standmiete € 9\,- pro Mete
 r! Bezahlung vor Ort! Fahrzeug kostenlos am Stand!\nTisch\, Stuhl\, Kleide
 rstange etc. bitte selbst mitbringen!\nBis dann!\nDer Markt findet bei jed
 em Wetter statt!\n \nJetzt neu: Besuche www.gerosflohmarkt.de und verkauf
 e kostenlos Deine Sachen online!\nGerosFlohmarkt.de - Flohmärkte und kost
 enlose Kleinanzeigen!\n 
LOCATION:Römerstraße 166 72793 
SUMMARY:Pfullingen\, Edeka C&amp\;C (gegenüber Obi)\, großer Sonntags- Fl
 ohmarkt! Findet statt! Ohne Voranmeldung! Ohne Termin! Einfach vorbeikomme
 n!
END:VEVENT
END:VCALENDAR
