BEGIN:VCALENDAR
VERSION:2.0
PRODID:icalendar-ruby
CALSCALE:GREGORIAN
BEGIN:VEVENT
DTSTAMP:20260423T203657Z
UID:b5513443-1f0a-4208-a15e-c37076ee9cac
DTSTART:20260606T060000
DTEND:20260606T160000
DESCRIPTION:Enkler - Einer der günstigsten Veranstalter Süddeutschlands. 
 Bekannt für gutbesuchte und umsatzstarke Floh-\, Trödel-\, Sammler- und 
 Jahrmärkte in Ihrer Nähe. Bekannt und bewährt seit über 25 Jahren!!!We
 itere Infos auf unserer HomepageGerne beantworten wir Ihre Fragen\, schrei
 ben Sie uns einfach eine Email:
LOCATION:Rotbuchenstraße 19 92318 Woffenbach
SUMMARY:Volksfestplatz &amp\; Jurahalle
END:VEVENT
END:VCALENDAR
