BEGIN:VCALENDAR
VERSION:2.0
PRODID:icalendar-ruby
CALSCALE:GREGORIAN
BEGIN:VEVENT
DTSTAMP:20260422T044425Z
UID:a55d336b-fbec-4b76-9d77-8d48927b0d7a
DTSTART:20260621T110000
DTEND:20260621T160000
DESCRIPTION:Aufbau ab 7:00 Uhr      Verkauf ab 11:00 Uhr\nTrödel   
         lfm    12\,00 €Neuware       lfm    17\,00 € Prop
 aganda  lfm    22\,00 €\nKinderdecke bis 12 J. max 2 mal 2 m\, 3\,00 
 € nur eigene Spiel~Anziehsachen\nPKW ab 3 m Aufbau am Stand\nDas Einpack
 en der Ware und der Abbau vom Stand \n vor 15 Uhr nicht erlaubt\nEs gibt
  wetterbedingte Ausnahmen die aber dann bekannt gegeben werden
LOCATION:Poststraße  56457 
SUMMARY:Stellmachers Trödelmarkt  in Westerburg auf dem Parkplatz beim Kau
 fland 
END:VEVENT
END:VCALENDAR
