BEGIN:VCALENDAR
VERSION:2.0
PRODID:icalendar-ruby
CALSCALE:GREGORIAN
BEGIN:VEVENT
DTSTAMP:20260424T173747Z
UID:b43d4b76-7f58-484e-a1e9-4bb273d9fe66
DTSTART:20261108T100000
DTEND:20261108T170000
DESCRIPTION:Flohmarkt zum verkaufsoffenen Sonntag\nParkpl.Edeka\nvon 10°°
 -17°° Uhr\nlaufende Meter 9.- €\nAuot am Stand !!!\nKeine Anmeldung er
 forderlich !!!\nNeuware unerwünscht !!!
LOCATION:Sigmaringer Straße 14 88356 
SUMMARY:Parkpl. Edeka Leber in Ostrach
END:VEVENT
END:VCALENDAR
