BEGIN:VCALENDAR
VERSION:2.0
PRODID:icalendar-ruby
CALSCALE:GREGORIAN
BEGIN:VEVENT
DTSTAMP:20260424T210349Z
UID:581cb3d3-76b3-4532-b29b-db6d179f0d6d
DTSTART:20260425T110000
DTEND:20260425T160000
DESCRIPTION:https://fetzer-veranstaltungen.de/index.php\nFetzer GmbH Verans
 talterRaiffeisenstr. 5Immenstadt 87509 Deutschland\nTel: 08323 96 74 14E-M
 ail: info@fetzermessen.de
LOCATION:Böfinger Straße 50 89073 
SUMMARY:Mädelsflohmarkt Ulm Messe
END:VEVENT
END:VCALENDAR
