BEGIN:VCALENDAR
VERSION:2.0
PRODID:icalendar-ruby
CALSCALE:GREGORIAN
BEGIN:VEVENT
DTSTAMP:20260424T192020Z
UID:77dea451-1706-4231-a721-9990cc2ab180
DTSTART:20260531T110000
DTEND:20260531T160000
DESCRIPTION:https://fetzer-veranstaltungen.de/index.php\nFetzer GmbH Verans
 talterRaiffeisenstr. 5Immenstadt 87509 Deutschland\nTel: 08323 96 74 14E-M
 ail: info@fetzermessen.de
LOCATION:Böfinger Straße 50 89073 
SUMMARY:Mädelsflohmarkt Ulm Messe
END:VEVENT
END:VCALENDAR
