BEGIN:VCALENDAR
VERSION:2.0
PRODID:icalendar-ruby
CALSCALE:GREGORIAN
BEGIN:VEVENT
DTSTAMP:20260426T024844Z
UID:ae1ba8ea-3e2b-4b9b-aa52-3a72b139bbef
DTSTART:20260509T080000
DTEND:20260509T180000
DESCRIPTION:AKTION: 5€ Pro Meter (Mit Auto an Stand eine Mindestabnahme v
 on 3 Metern dementsprechend 15€)\nAktionszeitraum von September bis Nove
 mber\n \nPlatzvergabe erst ab 6 Uhr da davor die Discothek noch geöffnet
  ist\nFlohmart in Konstanz auf dem Parkplatz vom ehemaligem Dancepalace (G
 rey)\n \nVon 8-18 Uhr\n \nPreis pro Metern 5€\n \nAussenmarkt\, Ohne 
 Voranmeldung\nKommen\, Platz bekommen\,\nAufbauen und Verkaufen \nBei Fra
 gen melden sie sich unter\n \ntfx-flohmarkt@web.de oder 0162/8852247\n 
 \n 
LOCATION:Max-Stromeyer-Straße 33 78467 
SUMMARY:Flohmarkt Konstanz Grey Club (ehem.Dancepalace)
END:VEVENT
END:VCALENDAR
