BEGIN:VCALENDAR
VERSION:2.0
PRODID:icalendar-ruby
CALSCALE:GREGORIAN
BEGIN:VEVENT
DTSTAMP:20260426T041940Z
UID:71a6f0c3-a0dc-4f82-af13-2f34fd7eb39a
DTSTART:20260725T080000
DTEND:20260725T180000
DESCRIPTION:AKTION: 5€ Pro Meter (Mit Auto an Stand eine Mindestabnahme v
 on 3 Metern dementsprechend 15€)\nAktionszeitraum von September bis Nove
 mber\n \nPlatzvergabe erst ab 6 Uhr da davor die Discothek noch geöffnet
  ist\nFlohmart in Konstanz auf dem Parkplatz vom ehemaligem Dancepalace (G
 rey)\n \nVon 8-18 Uhr\n \nPreis pro Metern 5€\n \nAussenmarkt\, Ohne 
 Voranmeldung\nKommen\, Platz bekommen\,\nAufbauen und Verkaufen \nBei Fra
 gen melden sie sich unter\n \ntfx-flohmarkt@web.de oder 0162/8852247\n 
 \n 
LOCATION:Max-Stromeyer-Straße 33 78467 
SUMMARY:Flohmarkt Konstanz Grey Club (ehem.Dancepalace)
END:VEVENT
END:VCALENDAR
