BEGIN:VCALENDAR
VERSION:2.0
PRODID:icalendar-ruby
CALSCALE:GREGORIAN
BEGIN:VEVENT
DTSTAMP:20260421T115127Z
UID:79a2d620-8c18-40fe-9ed5-58100f78a01e
DTSTART:20260809T083000
DTEND:20260809T160000
DESCRIPTION:Haben Sie Interesse? Dann sichern Sie sich unter 04102/31939 o
 der auf unserer Internetseite www.hochberg-flohmarkt.de Ihren persönlich
 en Flohmarktstand.\n \nAuch in diesem Jahr dürfen wir Sie auf unserem Fl
 ohmarkt auf dem hagebau-Gelände in Lübeck\, Bei der Lohmühle 11 a\, beg
 rüßen. In direkter Nähe zum Stadion des VfB Lübeck gelegen\, bietet di
 eser Markt eine schöne Atmosphäre. Der Markt ist aufgrund seiner zentral
 en Lage sehr gut aus allen Richtungen Lübecks zu erreichen und hat ein gr
 oßes Einzugsgebiet.\nPreise je laufenden Meter:\nohne Pkw: 13\,00 € / m
 it Pkw: 15\,00 € / mit Dach 3\,00 € AufschlagAnfahrt mit öffentlichen
  Verkehrsmitteln:Buslinie 7 Richtung Bad Schwartau ZOB\, bis Lübeck Sedan
 straße\, dann ca. 8 Min. FußwegBuslinie 3 Richtung Lübeck Sereetzer Weg
 \, bis Lübeck an der Hansehalle\, dann ca 5 Min. FußwegBuslinie 10 Richt
 ung Sereetz am Rugenberg\, bis Lübeck Karlstraße\, dann ca. 9 Min. Fußw
 eg
LOCATION:Bei der Lohmühle 11A 23554 Sankt Lorenz Nord
SUMMARY:hagebau Lübeck
END:VEVENT
END:VCALENDAR
