BEGIN:VCALENDAR
VERSION:2.0
PRODID:icalendar-ruby
CALSCALE:GREGORIAN
BEGIN:VEVENT
DTSTAMP:20260421T074839Z
UID:9fe3a13a-b8d1-4e88-a497-339f7c0b6a0c
DTSTART:20261011T070000
DTEND:20261011T160000
DESCRIPTION:Kontakt / Info : 01520-5681423... auch WhatsApp\nACHTUNG FÜR B
 ESUCHER : AB SOFORT ! DIE ZUFAHRT ZUM PARKDECK 2 IST NUR NOCH ÜBER DIE HI
 LDERSDORFER STRASSE MÖGLICH ! - NICHT MEHR ÜBER DIE DRESDENER STRASSE !!
 !\nWetterunabhängige Veranstaltung mitten in Chemnitz !\nWir haben für J
 eden ein schattiges und trockenes  Plätzchen - schwitzen oder naßwerden
  ? gibt's hier nicht !\nSonnengeschützt und regensicher trödeln wir auf 
 dem großen Parkdeck im Erdgeschoß des Parkhauses.Durch großflächiger P
 ressewerbung\, sowie Plakatwerbung im und am Center ein gut besuchter Mark
 t !\nEinfach mal ausprobieren ... Parkdeck Einfahrthöhe 1\,90 Meter ! \nE
 s wird jeweils nur 1 Fahrzeug &amp\; 1 Standbetreiber akzeptiert.Der Zusam
 menschluß zu einem Großstand ist gemäß Marktordnung untersagt !!!\nJew
 eils am 1. Sonntag im Monat trödeln wir auf dem Parkdeck 1 der SACHSENALL
 EE ... mitten in ChemnitzAufbau ab 7 Uhr .Mit PKW / T4 Transporter (kein H
 ochdach) am Stand.Antik &amp\; Trödelmarkt - ohne Neuware !  \nAnmeldun
 g nicht erforderlich - einfach hinkommen !\nJEDER Stand :         
  - bis 3m/25€             - bis 5m/35€            - b
 is 10m/60€         Tiefe max. 2\,50m        - mit 1 Fahr
 zeug am Stand\n---&gt\;  für's Navi : Thomas Mann Platz 1b - 09130 Chemn
 itz\n---&gt\; Einfahrthöhe 1\,90 Meter ! Hochdach Transporter haben in Ei
 nfahrtsnähe ( max. 10m entfernt) reservierte Standplätze !\n \n 
LOCATION:Thomas-Mann-Platz 1 09130 Hilbersdorf
SUMMARY:SACHSENALLEE Chemnitz Parkdeck EG
END:VEVENT
END:VCALENDAR
