BEGIN:VCALENDAR
VERSION:2.0
PRODID:icalendar-ruby
CALSCALE:GREGORIAN
BEGIN:VEVENT
DTSTAMP:20260424T011407Z
UID:d51e8170-e07b-4cc0-b58e-eed3099d38cc
DTSTART:20260620T080000
DTEND:20260620T150000
DESCRIPTION:Alle Infos und Möglichkeit zur Anmeldung bitteüber www.timke
 .com
LOCATION:Ostring  76137 Oststadt
SUMMARY:Gross-FLOHMARKT Messplatz Karlsruhe
END:VEVENT
END:VCALENDAR
