BEGIN:VCALENDAR
VERSION:2.0
PRODID:icalendar-ruby
CALSCALE:GREGORIAN
BEGIN:VEVENT
DTSTAMP:20260424T024221Z
UID:8b8ad85f-6f84-4d9b-9439-df5e56f45018
DTSTART:20260718T080000
DTEND:20260718T150000
DESCRIPTION:Alle Infos und Möglichkeit zur Anmeldung bitteüber www.timke
 .com
LOCATION:Ostring  76137 Oststadt
SUMMARY:Gross-FLOHMARKT Messplatz Karlsruhe
END:VEVENT
END:VCALENDAR
