BEGIN:VCALENDAR
VERSION:2.0
PRODID:icalendar-ruby
CALSCALE:GREGORIAN
BEGIN:VEVENT
DTSTAMP:20260424T024119Z
UID:107180f8-43a1-4779-91ab-c910983e7923
DTSTART:20260912T080000
DTEND:20260912T150000
DESCRIPTION:Alle Infos und Möglichkeit zur Anmeldung bitteüber www.timke
 .com
LOCATION:Ostring  76137 Oststadt
SUMMARY:Gross-FLOHMARKT Messplatz Karlsruhe
END:VEVENT
END:VCALENDAR
