BEGIN:VCALENDAR
VERSION:2.0
PRODID:icalendar-ruby
CALSCALE:GREGORIAN
BEGIN:VEVENT
DTSTAMP:20260426T021946Z
UID:6342b806-e342-4b8d-b5b6-00c0b8237d2a
DTSTART:20260802T110000
DTEND:20260802T180000
DESCRIPTION:lfd. Meter Trödel 10\,00 ¤ und Neuware 15\,00 ¤\nPlatzvergab
 e ist immer samstags von 18.00 -19.00 Uhr vor Ort oder sonntag Morgen 6.00
 -8.00 Uhr  nach Eingang\n \n \nINFO www.geide-maerkte.de
LOCATION:Wahnbachtalstr. 3 53804 Much
SUMMARY:REWE-Markt
END:VEVENT
END:VCALENDAR
