BEGIN:VCALENDAR
VERSION:2.0
PRODID:icalendar-ruby
CALSCALE:GREGORIAN
BEGIN:VEVENT
DTSTAMP:20260426T034939Z
UID:a7a709ec-37ac-4132-8e37-02000918c830
DTSTART:20260920T110000
DTEND:20260920T180000
DESCRIPTION:lfd. Meter Trödel 10\,00 ¤ und Neuware 15\,00 ¤\nPlatzvergab
 e ist immer samstags von 18.00 -19.00 Uhr vor Ort oder sonntag Morgen 6.00
 -8.00 Uhr  nach Eingang\n \n \nINFO www.geide-maerkte.de
LOCATION:Wahnbachtalstr. 3 53804 Much
SUMMARY:REWE-Markt
END:VEVENT
END:VCALENDAR
