BEGIN:VCALENDAR
VERSION:2.0
PRODID:icalendar-ruby
CALSCALE:GREGORIAN
BEGIN:VEVENT
DTSTAMP:20260425T120002Z
UID:27aefd5d-8cbb-4795-824e-b1b3393ba017
DTSTART:20260621T110000
DTEND:20260621T180000
DESCRIPTION:lfd. Meter Trödel 10\,00 ¤ und für Neuware 15\,00¤\nPlatzve
 rgabe ist samstags von 18.00-19.00 Uhr vor Ort oder sonntag Morgen von 6.0
 0-8.00 Uhr  \n \n \nAlle Infos  www.geide-maerkte.de
LOCATION:Propsteistr. 16-22 51491 Overath
SUMMARY:Hagebaumarkt / Hit-Markt 
END:VEVENT
END:VCALENDAR
