BEGIN:VCALENDAR
VERSION:2.0
PRODID:icalendar-ruby
CALSCALE:GREGORIAN
BEGIN:VEVENT
DTSTAMP:20260425T004327Z
UID:76d3bed8-1c28-460d-8eec-1013ffa2156f
DTSTART:20260620T080000
DTEND:20260620T150000
DESCRIPTION:https://fetzer-veranstaltungen.de/index.php\nFetzer GmbH Verans
 talterRaiffeisenstr. 5Immenstadt 87509 Deutschland\nTel: 08323 96 74 14E-M
 ail: info@fetzermessen.de
LOCATION:Memminger Straße 137 87439 Halden
SUMMARY:Flohmarkt Kempten Eisstadion
END:VEVENT
END:VCALENDAR
