BEGIN:VCALENDAR
VERSION:2.0
PRODID:icalendar-ruby
CALSCALE:GREGORIAN
BEGIN:VEVENT
DTSTAMP:20260424T224709Z
UID:ed6b789b-57f7-45f6-b7a5-eb81cfab5065
DTSTART:20260718T080000
DTEND:20260718T150000
DESCRIPTION:https://fetzer-veranstaltungen.de/index.php\nFetzer GmbH Verans
 talterRaiffeisenstr. 5Immenstadt 87509 Deutschland\nTel: 08323 96 74 14E-M
 ail: info@fetzermessen.de
LOCATION:Memminger Straße 137 87439 Halden
SUMMARY:Flohmarkt Kempten Eisstadion
END:VEVENT
END:VCALENDAR
