BEGIN:VCALENDAR
VERSION:2.0
PRODID:icalendar-ruby
CALSCALE:GREGORIAN
BEGIN:VEVENT
DTSTAMP:20260424T162048Z
UID:f7f4d1b2-25ce-4d53-8700-106baf24b5e1
DTSTART:20260502T080000
DTEND:20260502T150000
DESCRIPTION:https://fetzer-veranstaltungen.de/index.php\nFetzer GmbH Verans
 talterRaiffeisenstr. 5Immenstadt 87509 Deutschland\nTel: 08323 96 74 14E-M
 ail: info@fetzermessen.de
LOCATION:Bayernstraße 17 86916 
SUMMARY:Flohmarkt Kaufering Festplatz 
END:VEVENT
END:VCALENDAR
