BEGIN:VCALENDAR
VERSION:2.0
PRODID:icalendar-ruby
CALSCALE:GREGORIAN
BEGIN:VEVENT
DTSTAMP:20260424T175501Z
UID:8402a900-9a70-435d-8c7c-1357e3f922fc
DTSTART:20260503T090000
DTEND:20260503T150000
DESCRIPTION:https://fetzer-veranstaltungen.de/index.php\nFetzer GmbH Verans
 talterRaiffeisenstr. 5Immenstadt 87509 Deutschland\nTel: 08323 96 74 14E-M
 ail: info@fetzermessen.de
LOCATION:Bayernstraße 17 86916 
SUMMARY:Flohmarkt Kaufering Festplatz 
END:VEVENT
END:VCALENDAR
