BEGIN:VCALENDAR
VERSION:2.0
PRODID:icalendar-ruby
CALSCALE:GREGORIAN
BEGIN:VEVENT
DTSTAMP:20260424T173809Z
UID:c3ec640b-5a01-47c9-8d3c-2514fdcfe69d
DTSTART:20260524T090000
DTEND:20260524T150000
DESCRIPTION:https://fetzer-veranstaltungen.de/index.php\nFetzer GmbH Verans
 talterRaiffeisenstr. 5Immenstadt 87509 Deutschland\nTel: 08323 96 74 14E-M
 ail: info@fetzermessen.de
LOCATION:Bayernstraße 17 86916 
SUMMARY:Flohmarkt Kaufering Festplatz 
END:VEVENT
END:VCALENDAR
