BEGIN:VCALENDAR
VERSION:2.0
PRODID:icalendar-ruby
CALSCALE:GREGORIAN
BEGIN:VEVENT
DTSTAMP:20260424T175517Z
UID:aed99a9a-6a6c-4343-95c7-2a4213c1a49d
DTSTART:20260808T080000
DTEND:20260808T150000
DESCRIPTION:https://fetzer-veranstaltungen.de/index.php\nFetzer GmbH Verans
 talterRaiffeisenstr. 5Immenstadt 87509 Deutschland\nTel: 08323 96 74 14E-M
 ail: info@fetzermessen.de
LOCATION:Bayernstraße 17 86916 
SUMMARY:Flohmarkt Kaufering Festplatz 
END:VEVENT
END:VCALENDAR
