BEGIN:VCALENDAR
VERSION:2.0
PRODID:icalendar-ruby
CALSCALE:GREGORIAN
BEGIN:VEVENT
DTSTAMP:20260424T174713Z
UID:be797b45-763b-4226-9975-efb3c48f61b5
DTSTART:20261010T080000
DTEND:20261010T150000
DESCRIPTION:https://fetzer-veranstaltungen.de/index.php\nFetzer GmbH Verans
 talterRaiffeisenstr. 5Immenstadt 87509 Deutschland\nTel: 08323 96 74 14E-M
 ail: info@fetzermessen.de
LOCATION:Bayernstraße 17 86916 
SUMMARY:Flohmarkt Kaufering Festplatz 
END:VEVENT
END:VCALENDAR
